BEGIN:VCALENDAR
VERSION:2.0
PRODID:-//Tree of Life Centre - ECPv6.15.20//NONSGML v1.0//EN
CALSCALE:GREGORIAN
METHOD:PUBLISH
X-WR-CALNAME:Tree of Life Centre
X-ORIGINAL-URL:https://treeoflifecentre.co.uk
X-WR-CALDESC:Events for Tree of Life Centre
REFRESH-INTERVAL;VALUE=DURATION:PT1H
X-Robots-Tag:noindex
X-PUBLISHED-TTL:PT1H
BEGIN:VTIMEZONE
TZID:UTC
BEGIN:STANDARD
TZOFFSETFROM:+0000
TZOFFSETTO:+0000
TZNAME:UTC
DTSTART:20240101T000000
END:STANDARD
END:VTIMEZONE
BEGIN:VEVENT
DTSTART;TZID=UTC:20250101T100000
DTEND;TZID=UTC:20250101T163000
DTSTAMP:20260424T202319
CREATED:20250112T093458Z
LAST-MODIFIED:20250125T165706Z
UID:11520-1735725600-1735749000@treeoflifecentre.co.uk
SUMMARY:Zodiac Workshop
DESCRIPTION:Join our lovely BCT therapist Lisa Brown for a fun and informative day in our lovely Barn. \n \n  \nTo book please email Lisa at lisa@treeoflifecentre.co.uk \nor text her on 07920 004 025 \n 
URL:https://treeoflifecentre.co.uk/event/zodiac-workshop/
LOCATION:Tree of Life Centre
CATEGORIES:Live
ATTACH;FMTTYPE=image/png:https://treeoflifecentre.co.uk/wp-content/uploads/2025/01/crop-optimized-image-1.png
END:VEVENT
END:VCALENDAR