BEGIN:VCALENDAR
VERSION:2.0
PRODID:-//Tree of Life Centre - ECPv6.15.20//NONSGML v1.0//EN
CALSCALE:GREGORIAN
METHOD:PUBLISH
X-WR-CALNAME:Tree of Life Centre
X-ORIGINAL-URL:https://treeoflifecentre.co.uk
X-WR-CALDESC:Events for Tree of Life Centre
REFRESH-INTERVAL;VALUE=DURATION:PT1H
X-Robots-Tag:noindex
X-PUBLISHED-TTL:PT1H
BEGIN:VTIMEZONE
TZID:UTC
BEGIN:STANDARD
TZOFFSETFROM:+0000
TZOFFSETTO:+0000
TZNAME:UTC
DTSTART:20230101T000000
END:STANDARD
END:VTIMEZONE
BEGIN:VTIMEZONE
TZID:Europe/London
BEGIN:DAYLIGHT
TZOFFSETFROM:+0000
TZOFFSETTO:+0100
TZNAME:BST
DTSTART:20240331T010000
END:DAYLIGHT
BEGIN:STANDARD
TZOFFSETFROM:+0100
TZOFFSETTO:+0000
TZNAME:GMT
DTSTART:20241027T010000
END:STANDARD
BEGIN:DAYLIGHT
TZOFFSETFROM:+0000
TZOFFSETTO:+0100
TZNAME:BST
DTSTART:20250330T010000
END:DAYLIGHT
BEGIN:STANDARD
TZOFFSETFROM:+0100
TZOFFSETTO:+0000
TZNAME:GMT
DTSTART:20251026T010000
END:STANDARD
BEGIN:DAYLIGHT
TZOFFSETFROM:+0000
TZOFFSETTO:+0100
TZNAME:BST
DTSTART:20260329T010000
END:DAYLIGHT
BEGIN:STANDARD
TZOFFSETFROM:+0100
TZOFFSETTO:+0000
TZNAME:GMT
DTSTART:20261025T010000
END:STANDARD
END:VTIMEZONE
BEGIN:VEVENT
DTSTART;TZID=UTC:20240706T100000
DTEND;TZID=UTC:20240707T170000
DTSTAMP:20260425T133308
CREATED:20200507T160409Z
LAST-MODIFIED:20240213T134505Z
UID:3053-1720260000-1720371600@treeoflifecentre.co.uk
SUMMARY:Soul Responsibility and Past Lives
DESCRIPTION:Understanding pathways and our own Soul Responsibility upon them\nWhy we choose our mothers\, fathers\, partners and children\nDefining your success and purpose\nDemonstration of Past Lives\, with class participation\nSoul Responsibility is the ultimate goal for all of us within this life time.\n\nIt can be difficult to accept that we choose every experience whether negative or positive for our greatest growth.\nThe key is to be able to see our lesson; understand it\, learn from it and then move on.\nThis course helps you define the why’s and how’s which leads you to an appreciation of the task your soul has undertaken.\nWe offer volunteers on this course an opportunity to solve an issue from a past life that is inhibiting their soul growth in this lifetime.\nReserve your slot now!  All weekend workshops run from 10am to 5pm on both Saturday and Sunday.\nShould you have any questions about these workshops prior to booking\,  feel free to contact us on courses@treeoflifecentre.co.uk or call us on 01242 680 450 \nWe look forward to seeing you there!
URL:https://treeoflifecentre.co.uk/event/weekend-workshop-5/
LOCATION:Tree of Life Centre
CATEGORIES:Abuse,Addiction,ADHD,Anger,Anxiety & Panic,BCT,Bereavement,Bullying,Cancer,chakras,Children,Communication,Confidence,Depression,Dyslexia,Failure,Family Issues,Infertility,Live,Past Life,Personal Development,Self Worth,Sexual Identity,Spiritual Development,Stress,Trust
ATTACH;FMTTYPE=image/jpeg:https://treeoflifecentre.co.uk/wp-content/uploads/2021/07/karmic-lessons.jpg
END:VEVENT
BEGIN:VEVENT
DTSTART;TZID=UTC:20240914T100000
DTEND;TZID=UTC:20240915T170000
DTSTAMP:20260425T133308
CREATED:20200507T124835Z
LAST-MODIFIED:20240906T113750Z
UID:2997-1726308000-1726419600@treeoflifecentre.co.uk
SUMMARY:Exploring the Energy Fields of the Body
DESCRIPTION:Pendulums and the mystery behind them. Using pendulums for allergy testing – discover what or who you are allergic to: emotionally and physically. Using pendulums for self-questioning. Learn how to “ask” your pendulum.\n\n\nWorking with the seven chakra system. Learn how these chakras spin\, whether they are correctly balanced\, and how to re-balance and cleanse blockages which lead to illness and lack of intuition.\n\n\nMeridian lines and energy fields\, derived from Chinese acupuncture; understanding the structure and interaction of meridian lines shows us where we hold physical blocks within our bodies.\n\n\nMany people say\, “I can’t see!”. Every person can see! Discover how you see.\n\n\nIntuition and confidence exercises. Techniques to enhance visualisation.\n\n\nClairaudience\, Clairvoyance\, and Clairsentience. Discover how to develop these skills and enhance your strongest gift.\n\n\nBasic Psychometry. Develops your ability to link to another person’s energy through an object they have worn.\n\n\nIn our search to understand the connection of our physical and spiritual selves we often ask for “proof” that energies do exist. In day one of this course\, Patricia Sterry explores pendulum techniques that enable us to experience visual confirmation of the physical and spiritual energies that flow through our bodies.\nDay two finds you bringing this understanding to the development of “inner sight”; imagery within the third eye. Exercises and visualisation techniques are combined to strengthen our perceptive intuition and psychic abilities.\nReserve your slot now!  All weekend workshops run from 10am to 5pm on both Saturday and Sunday.\nShould you have any questions about these workshops prior to booking\,  feel free to contact us on courses@treeoflifecentre.co.uk or call us on 01242 680 450 \nWe look forward to seeing you there!
URL:https://treeoflifecentre.co.uk/event/weekend-workshop-1/
LOCATION:Tree of Life Centre
CATEGORIES:Abuse,Addiction,Anger,Anxiety & Panic,BCT,Bullying,Cancer,chakras,Communication,Confidence,Couples Counselling,Depression,Failure,Family Issues,Food/Nutrition,Headaches & Migraines,Hormones,Immune System,Live,Meditation,Personal Development,Phobias,Self Worth,Spiritual Development,Stress,Trust
ATTACH;FMTTYPE=image/jpeg:https://treeoflifecentre.co.uk/wp-content/uploads/2020/05/fountain-3412242_640.jpg
END:VEVENT
BEGIN:VEVENT
DTSTART;TZID=UTC:20250101T100000
DTEND;TZID=UTC:20250101T163000
DTSTAMP:20260425T133308
CREATED:20250112T093458Z
LAST-MODIFIED:20250125T165706Z
UID:11520-1735725600-1735749000@treeoflifecentre.co.uk
SUMMARY:Zodiac Workshop
DESCRIPTION:Join our lovely BCT therapist Lisa Brown for a fun and informative day in our lovely Barn. \n \n  \nTo book please email Lisa at lisa@treeoflifecentre.co.uk \nor text her on 07920 004 025 \n 
URL:https://treeoflifecentre.co.uk/event/zodiac-workshop/
LOCATION:Tree of Life Centre
CATEGORIES:Live
ATTACH;FMTTYPE=image/png:https://treeoflifecentre.co.uk/wp-content/uploads/2025/01/crop-optimized-image-1.png
END:VEVENT
BEGIN:VEVENT
DTSTART;TZID=UTC:20250522T193000
DTEND;TZID=UTC:20250522T203000
DTSTAMP:20260425T133308
CREATED:20250513T071340Z
LAST-MODIFIED:20250513T072203Z
UID:12333-1747942200-1747945800@treeoflifecentre.co.uk
SUMMARY:Planet Meditation
DESCRIPTION:1 hour Zoom session with Patricia. \nReserve your slot now! \nBelow –  you can book a single Zoom workshop or a 10 Zoom passbook. \nIf you already have a passbook or subscription with us\, simply Register with the relevant workshop to reserve your slot. \nShould you have any questions about this webinar prior to booking\, please feel free to contact us on courses@treeoflifecentre.co.uk or call us on 01242 680 450 \nWe look forward to seeing you there!
URL:https://treeoflifecentre.co.uk/event/planet-meditation/
LOCATION:ZOOM
CATEGORIES:Abuse,Addiction,ADHD,Anger,Anxiety & Panic,Autism,Bereavement,Bullying,Cancer,Children,Chronic Pain,Communication,Confidence,Couples Counselling,Depression,Eating Disorders,Failure,Family Issues,Hormones,Meditation,Mental Health,Numerology,Past Life,Personal Development,Phobias,Self Harm,Self Worth,Sexual Challenges,Sexual Identity,Spiritual Development,Stress,Teenagers,THURS ZOOM,Trust
ATTACH;FMTTYPE=image/png:https://treeoflifecentre.co.uk/wp-content/uploads/2025/05/planet-meditation.png
END:VEVENT
BEGIN:VEVENT
DTSTART;TZID=UTC:20250612T193000
DTEND;TZID=UTC:20250612T203000
DTSTAMP:20260425T133308
CREATED:20250522T125722Z
LAST-MODIFIED:20250522T125722Z
UID:12376-1749756600-1749760200@treeoflifecentre.co.uk
SUMMARY:Insight into Trauma (Pt 1)
DESCRIPTION:1 hour Zoom session with Patricia. \nReserve your slot now! \nBelow –  you can book a single Zoom workshop or a 10 Zoom passbook. \nIf you already have a passbook or subscription with us\, simply Register with the relevant workshop to reserve your slot. \nShould you have any questions about this webinar prior to booking\, please feel free to contact us on courses@treeoflifecentre.co.uk or call us on 01242 680 450 \nWe look forward to seeing you there!
URL:https://treeoflifecentre.co.uk/event/insight-into-trauma-pt-1/
LOCATION:ZOOM
CATEGORIES:Abuse,Addiction,ADHD,Anger,Anxiety & Panic,Autism,Bereavement,Bullying,Cancer,Children,Chronic Pain,Communication,Confidence,Couples Counselling,Depression,Eating Disorders,Failure,Family Issues,Hormones,Meditation,Mental Health,Numerology,Past Life,Personal Development,Phobias,Self Harm,Self Worth,Sexual Challenges,Sexual Identity,Spiritual Development,Stress,Teenagers,THURS ZOOM,Trust
ATTACH;FMTTYPE=image/png:https://treeoflifecentre.co.uk/wp-content/uploads/2025/05/traumept1-scaled.png
END:VEVENT
BEGIN:VEVENT
DTSTART;TZID=UTC:20250703T193000
DTEND;TZID=UTC:20250703T203000
DTSTAMP:20260425T133308
CREATED:20250612T083514Z
LAST-MODIFIED:20250612T083514Z
UID:12406-1751571000-1751574600@treeoflifecentre.co.uk
SUMMARY:Healing Trauma
DESCRIPTION:1 hour Zoom session with Patricia. \nReserve your slot now! \nBelow –  you can book a single Zoom workshop or a 10 Zoom passbook. \nIf you already have a passbook\, simply Register with the relevant workshop to reserve your slot. \nShould you have any questions about this webinar prior to booking\, please feel free to contact us on courses@treeoflifecentre.co.uk or call us on 01242 680 450 \nWe look forward to seeing you there!
URL:https://treeoflifecentre.co.uk/event/healing-trauma/
LOCATION:ZOOM
CATEGORIES:Abuse,Addiction,ADHD,Anger,Anxiety & Panic,Autism,Bereavement,Bullying,Cancer,Children,Chronic Pain,Communication,Confidence,Couples Counselling,Depression,Eating Disorders,Failure,Family Issues,Hormones,Meditation,Mental Health,Numerology,Past Life,Personal Development,Phobias,Self Harm,Self Worth,Sexual Challenges,Sexual Identity,Spiritual Development,Stress,Teenagers,THURS ZOOM,Trust
ATTACH;FMTTYPE=image/png:https://treeoflifecentre.co.uk/wp-content/uploads/2025/06/Healing-trauma-crop.png
END:VEVENT
BEGIN:VEVENT
DTSTART;TZID=UTC:20250724T193000
DTEND;TZID=UTC:20250724T203000
DTSTAMP:20260425T133308
CREATED:20250703T102914Z
LAST-MODIFIED:20250703T102914Z
UID:12421-1753385400-1753389000@treeoflifecentre.co.uk
SUMMARY:Summer Meditation
DESCRIPTION:1 hour Zoom session with Patricia. \nReserve your slot now! \nBelow –  you can book a single Zoom workshop or a 10 Zoom passbook. \nIf you already have a passbook\, simply Register with the relevant workshop to reserve your slot. \nShould you have any questions about this webinar prior to booking\, please feel free to contact us on courses@treeoflifecentre.co.uk or call us on 01242 680 450 \nWe look forward to seeing you there!
URL:https://treeoflifecentre.co.uk/event/summer-meditation/
LOCATION:ZOOM
CATEGORIES:Abuse,Addiction,ADHD,Anger,Anxiety & Panic,Autism,Bereavement,Bullying,Cancer,Children,Chronic Pain,Communication,Confidence,Couples Counselling,Depression,Eating Disorders,Failure,Family Issues,Hormones,Meditation,Mental Health,Numerology,Past Life,Personal Development,Phobias,Self Harm,Self Worth,Sexual Challenges,Sexual Identity,Spiritual Development,Stress,Teenagers,THURS ZOOM,Trust
ATTACH;FMTTYPE=image/png:https://treeoflifecentre.co.uk/wp-content/uploads/2025/07/summer-meditation.png
END:VEVENT
BEGIN:VEVENT
DTSTART;TZID=UTC:20250814T193000
DTEND;TZID=UTC:20250814T203000
DTSTAMP:20260425T133308
CREATED:20250722T074724Z
LAST-MODIFIED:20250722T074724Z
UID:12782-1755199800-1755203400@treeoflifecentre.co.uk
SUMMARY:Symbology of the Subconscious Mind
DESCRIPTION:1 hour Zoom session with Patricia. \nReserve your slot now! \nBelow –  you can book a single Zoom workshop or a 10 Zoom passbook. \nIf you already have a passbook\, simply Register with the relevant workshop to reserve your slot. \nShould you have any questions about this webinar prior to booking\, please feel free to contact us on courses@treeoflifecentre.co.uk or call us on 01242 680 450 \nWe look forward to seeing you there!
URL:https://treeoflifecentre.co.uk/event/symbology-of-the-subconscious-mind/
LOCATION:ZOOM
CATEGORIES:Abuse,Addiction,ADHD,Anger,Anxiety & Panic,Autism,Bereavement,Bullying,Cancer,Children,Chronic Pain,Communication,Confidence,Couples Counselling,Depression,Eating Disorders,Failure,Family Issues,Hormones,Meditation,Mental Health,Numerology,Past Life,Personal Development,Phobias,Self Harm,Self Worth,Sexual Challenges,Sexual Identity,Spiritual Development,Stress,Teenagers,THURS ZOOM,Trust
ATTACH;FMTTYPE=image/png:https://treeoflifecentre.co.uk/wp-content/uploads/2025/07/scsymbols.png
END:VEVENT
BEGIN:VEVENT
DTSTART;TZID=UTC:20250904T193000
DTEND;TZID=UTC:20250904T203000
DTSTAMP:20260425T133308
CREATED:20250814T175611Z
LAST-MODIFIED:20250814T175611Z
UID:12833-1757014200-1757017800@treeoflifecentre.co.uk
SUMMARY:Colours and how they affect our lives
DESCRIPTION:1 hour Zoom session with Patricia. \nReserve your slot now! \nBelow –  you can book a single Zoom workshop or a 10 Zoom passbook. \nIf you already have a passbook\, simply Register with the relevant workshop to reserve your slot. \nShould you have any questions about this webinar prior to booking\, please feel free to contact us on courses@treeoflifecentre.co.uk or call us on 01242 680 450 \nWe look forward to seeing you there!
URL:https://treeoflifecentre.co.uk/event/colours-and-how-they-affect-our-lives/
LOCATION:ZOOM
CATEGORIES:Abuse,Addiction,ADHD,Anger,Anxiety & Panic,Autism,Bereavement,Bullying,Cancer,Children,Chronic Pain,Communication,Confidence,Couples Counselling,Depression,Eating Disorders,Failure,Family Issues,Hormones,Meditation,Mental Health,Numerology,Past Life,Personal Development,Phobias,Self Harm,Self Worth,Sexual Challenges,Sexual Identity,Spiritual Development,Stress,Teenagers,THURS ZOOM,Trust
ATTACH;FMTTYPE=image/png:https://treeoflifecentre.co.uk/wp-content/uploads/2025/08/colours-1.png
END:VEVENT
BEGIN:VEVENT
DTSTART;TZID=UTC:20250925T193000
DTEND;TZID=UTC:20250925T203000
DTSTAMP:20260425T133308
CREATED:20250903T063841Z
LAST-MODIFIED:20250903T063841Z
UID:13074-1758828600-1758832200@treeoflifecentre.co.uk
SUMMARY:Autumn Meditation
DESCRIPTION:1 hour Zoom session with Patricia. \nReserve your slot now! \nBelow –  you can book a single Zoom workshop or a 10 Zoom passbook. \nIf you already have a passbook\, simply Register with the relevant workshop to reserve your slot. \nShould you have any questions about this webinar prior to booking\, please feel free to contact us on courses@treeoflifecentre.co.uk or call us on 01242 680 450 \nWe look forward to seeing you there!
URL:https://treeoflifecentre.co.uk/event/autumn-meditation/
LOCATION:ZOOM
CATEGORIES:Abuse,Addiction,ADHD,Anger,Anxiety & Panic,Autism,Bereavement,Bullying,Cancer,Children,Chronic Pain,Communication,Confidence,Couples Counselling,Depression,Eating Disorders,Failure,Family Issues,Hormones,Meditation,Mental Health,Numerology,Past Life,Personal Development,Phobias,Self Harm,Self Worth,Sexual Challenges,Sexual Identity,Spiritual Development,Stress,Teenagers,THURS ZOOM,Trust
ATTACH;FMTTYPE=image/png:https://treeoflifecentre.co.uk/wp-content/uploads/2025/09/autumnmed.png
END:VEVENT
BEGIN:VEVENT
DTSTART;TZID=Europe/London:20251011T100000
DTEND;TZID=Europe/London:20251011T180000
DTSTAMP:20260425T133308
CREATED:20250731T095148Z
LAST-MODIFIED:20250805T135235Z
UID:12811-1760176800-1760205600@treeoflifecentre.co.uk
SUMMARY:Reflexology at a Glance
DESCRIPTION:
URL:https://treeoflifecentre.co.uk/event/reflexology-at-a-glance/
CATEGORIES:Live
ATTACH;FMTTYPE=image/jpeg:https://treeoflifecentre.co.uk/wp-content/uploads/2020/06/interspective-feet_opt.jpg
END:VEVENT
BEGIN:VEVENT
DTSTART;TZID=UTC:20251016T193000
DTEND;TZID=UTC:20251016T203000
DTSTAMP:20260425T133308
CREATED:20250925T081428Z
LAST-MODIFIED:20250925T131515Z
UID:13289-1760643000-1760646600@treeoflifecentre.co.uk
SUMMARY:Dream Interpretations
DESCRIPTION:1 hour Zoom session with Patricia. \nReserve your slot now! \nBelow –  you can book a single Zoom workshop or a 10 Zoom passbook. \nIf you already have a passbook\, simply Register with the relevant workshop to reserve your slot. \nShould you have any questions about this webinar prior to booking\, please feel free to contact us on courses@treeoflifecentre.co.uk or call us on 01242 680 450 \nWe look forward to seeing you there!
URL:https://treeoflifecentre.co.uk/event/drteam-interpretations/
LOCATION:ZOOM
CATEGORIES:Abuse,Addiction,ADHD,Anger,Anxiety & Panic,Autism,Bereavement,Bullying,Cancer,Children,Chronic Pain,Communication,Confidence,Couples Counselling,Depression,Eating Disorders,Failure,Family Issues,Hormones,Meditation,Mental Health,Numerology,Past Life,Personal Development,Phobias,Self Harm,Self Worth,Sexual Challenges,Sexual Identity,Spiritual Development,Stress,Teenagers,THURS ZOOM,Trust
ATTACH;FMTTYPE=image/png:https://treeoflifecentre.co.uk/wp-content/uploads/2025/09/dream-inter.png
END:VEVENT
BEGIN:VEVENT
DTSTART;TZID=UTC:20251127T193000
DTEND;TZID=UTC:20251127T203000
DTSTAMP:20260425T133308
CREATED:20251015T082835Z
LAST-MODIFIED:20251101T123126Z
UID:13346-1764271800-1764275400@treeoflifecentre.co.uk
SUMMARY:The Wisdom of Bach and Bush
DESCRIPTION:1 hour Zoom session with Patricia. \nReserve your slot now! \nBelow –  you can book a single Zoom workshop or a 10 Zoom passbook. \nIf you already have a passbook\, simply Register with the relevant workshop to reserve your slot. \nShould you have any questions about this webinar prior to booking\, please feel free to contact us on courses@treeoflifecentre.co.uk or call us on 01242 680 450 \nWe look forward to seeing you there!
URL:https://treeoflifecentre.co.uk/event/thw-wisdom-of-bach-and-bush/
LOCATION:ZOOM
CATEGORIES:Abuse,Addiction,ADHD,Anger,Anxiety & Panic,Autism,Bereavement,Bullying,Cancer,Children,Chronic Pain,Communication,Confidence,Couples Counselling,Depression,Eating Disorders,Failure,Family Issues,Hormones,Meditation,Mental Health,Numerology,Past Life,Personal Development,Phobias,Self Harm,Self Worth,Sexual Challenges,Sexual Identity,Spiritual Development,Stress,Teenagers,THURS ZOOM,Trust
ATTACH;FMTTYPE=image/png:https://treeoflifecentre.co.uk/wp-content/uploads/2025/10/Bach-and-Bush.png
END:VEVENT
BEGIN:VEVENT
DTSTART;TZID=UTC:20251204T193000
DTEND;TZID=UTC:20251204T203000
DTSTAMP:20260425T133308
CREATED:20251204T125109Z
LAST-MODIFIED:20251215T160209Z
UID:13563-1764876600-1764880200@treeoflifecentre.co.uk
SUMMARY:Christmas Meditation 2025
DESCRIPTION:1 hour Zoom session with Patricia. \nReserve your slot now! \nBelow –  you can book a single Zoom workshop or a 10 Zoom passbook. \nIf you already have a passbook\, simply Register with the relevant workshop to reserve your slot. \nShould you have any questions about this webinar prior to booking\, please feel free to contact us on courses@treeoflifecentre.co.uk or call us on 01242 680 450 \nWe look forward to seeing you there!
URL:https://treeoflifecentre.co.uk/event/christmas-meditation-2025/
LOCATION:ZOOM
CATEGORIES:Abuse,Addiction,ADHD,Anger,Anxiety & Panic,Autism,Bereavement,Bullying,Cancer,Children,Chronic Pain,Communication,Confidence,Couples Counselling,Depression,Eating Disorders,Failure,Family Issues,Hormones,Meditation,Mental Health,Numerology,Past Life,Personal Development,Phobias,Self Harm,Self Worth,Sexual Challenges,Sexual Identity,Spiritual Development,Stress,Teenagers,THURS ZOOM,Trust
ATTACH;FMTTYPE=image/png:https://treeoflifecentre.co.uk/wp-content/uploads/2025/12/xmasmed2025.png
END:VEVENT
BEGIN:VEVENT
DTSTART;TZID=UTC:20260110T193000
DTEND;TZID=UTC:20260110T203000
DTSTAMP:20260425T133308
CREATED:20220729T123733Z
LAST-MODIFIED:20260115T111323Z
UID:8421-1768073400-1768077000@treeoflifecentre.co.uk
SUMMARY:New Zooms will be added soon.
DESCRIPTION:New Zoom webinars will be published soon…!
URL:https://treeoflifecentre.co.uk/event/new-zooms-will-be-added-soon/
LOCATION:ZOOM
CATEGORIES:Abuse,Addiction,ADHD,Anger,Anxiety & Panic,Autism,Bereavement,Bullying,Cancer,Children,Chronic Pain,Communication,Confidence,Couples Counselling,Depression,Eating Disorders,Failure,Family Issues,Hormones,Meditation,Mental Health,Numerology,Past Life,Personal Development,Phobias,Self Harm,Self Worth,Sexual Challenges,Sexual Identity,Spiritual Development,Stress,Teenagers,THURS ZOOM,Trust
ATTACH;FMTTYPE=image/jpeg:https://treeoflifecentre.co.uk/wp-content/uploads/2022/10/How-and-why-world-changing-scaled.jpg
END:VEVENT
BEGIN:VEVENT
DTSTART;TZID=UTC:20260129T193000
DTEND;TZID=UTC:20260129T203000
DTSTAMP:20260425T133308
CREATED:20260115T111424Z
LAST-MODIFIED:20260120T211012Z
UID:13760-1769715000-1769718600@treeoflifecentre.co.uk
SUMMARY:Fire Horse\, the 1 and the I
DESCRIPTION:1 hour Zoom session with Patricia. \nReserve your slot now! \nBelow –  you can book a single Zoom workshop or a 10 Zoom passbook. \nIf you already have a passbook\, simply Register with the relevant workshop to reserve your slot. \nShould you have any questions about this webinar prior to booking\, please feel free to contact us on courses@treeoflifecentre.co.uk or call us on 01242 680 450 \nWe look forward to seeing you there!
URL:https://treeoflifecentre.co.uk/event/fire-horse-meditation/
LOCATION:ZOOM
CATEGORIES:Abuse,Addiction,ADHD,Anger,Anxiety & Panic,Autism,Bereavement,Bullying,Cancer,Children,Chronic Pain,Communication,Confidence,Couples Counselling,Depression,Eating Disorders,Failure,Family Issues,Hormones,Meditation,Mental Health,Numerology,Past Life,Personal Development,Phobias,Self Harm,Self Worth,Sexual Challenges,Sexual Identity,Spiritual Development,Stress,Teenagers,THURS ZOOM,Trust
ATTACH;FMTTYPE=image/png:https://treeoflifecentre.co.uk/wp-content/uploads/2026/01/fire-med-no-date.png
END:VEVENT
BEGIN:VEVENT
DTSTART;TZID=UTC:20260226T193000
DTEND;TZID=UTC:20260226T203000
DTSTAMP:20260425T133308
CREATED:20260129T162104Z
LAST-MODIFIED:20260129T162104Z
UID:13795-1772134200-1772137800@treeoflifecentre.co.uk
SUMMARY:Healing Trauma
DESCRIPTION:1 hour Zoom session with Patricia. \nReserve your slot now! \nBelow –  you can book a single Zoom workshop or a 10 Zoom passbook. \nIf you already have a passbook\, simply Register with the relevant workshop to reserve your slot. \nShould you have any questions about this webinar prior to booking\, please feel free to contact us on courses@treeoflifecentre.co.uk or call us on 01242 680 450 \nWe look forward to seeing you there!
URL:https://treeoflifecentre.co.uk/event/healing-trauma-2/
LOCATION:ZOOM
CATEGORIES:Abuse,Addiction,ADHD,Anger,Anxiety & Panic,Autism,Bereavement,Bullying,Cancer,Children,Chronic Pain,Communication,Confidence,Couples Counselling,Depression,Eating Disorders,Failure,Family Issues,Hormones,Meditation,Mental Health,Numerology,Past Life,Personal Development,Phobias,Self Harm,Self Worth,Sexual Challenges,Sexual Identity,Spiritual Development,Stress,Teenagers,THURS ZOOM,Trust
ATTACH;FMTTYPE=image/png:https://treeoflifecentre.co.uk/wp-content/uploads/2025/06/Healing-trauma-crop.png
END:VEVENT
BEGIN:VEVENT
DTSTART;TZID=UTC:20260228T193000
DTEND;TZID=UTC:20260228T203000
DTSTAMP:20260425T133308
CREATED:20220729T124046Z
LAST-MODIFIED:20260115T111259Z
UID:8425-1772307000-1772310600@treeoflifecentre.co.uk
SUMMARY:New Onsite courses will be published soon.
DESCRIPTION:We will be publishing our next set of online courses very soon…..
URL:https://treeoflifecentre.co.uk/event/new-onsite-courses-will-be-published-soon/
LOCATION:Tree of Life Centre
CATEGORIES:Abuse,Addiction,ADHD,Anger,Anxiety & Panic,Autism,BCT,Bereavement,Bullying,Cancer,Children,Chronic Pain,Communication,Confidence,Couples Counselling,Depression,Eating Disorders,Failure,Family Issues,Hormones,Live,Meditation,Mental Health,Numerology,Past Life,Personal Development,Phobias,Self Harm,Self Worth,Sexual Challenges,Sexual Identity,Spiritual Development,Stress,Teenagers,Trust
ATTACH;FMTTYPE=image/jpeg:https://treeoflifecentre.co.uk/wp-content/uploads/2020/03/lower-court-barn.jpg
END:VEVENT
BEGIN:VEVENT
DTSTART;TZID=UTC:20260402T193000
DTEND;TZID=UTC:20260402T203000
DTSTAMP:20260425T133308
CREATED:20260225T140911Z
LAST-MODIFIED:20260225T161156Z
UID:13899-1775158200-1775161800@treeoflifecentre.co.uk
SUMMARY:Techniques and Tips to Develop your Intuition
DESCRIPTION:1 hour Zoom session with Patricia. \nReserve your slot now! \nBelow –  you can book a single Zoom workshop or a 10 Zoom passbook. \nIf you already have a passbook\, simply Register with the relevant workshop to reserve your slot. \nShould you have any questions about this webinar prior to booking\, please feel free to contact us on courses@treeoflifecentre.co.uk or call us on 01242 680 450 \nWe look forward to seeing you there!
URL:https://treeoflifecentre.co.uk/event/techniques-and-tips-to-develop-your-intuition/
LOCATION:ZOOM
CATEGORIES:Abuse,Addiction,ADHD,Anger,Anxiety & Panic,Autism,Bereavement,Bullying,Cancer,Children,Chronic Pain,Communication,Confidence,Couples Counselling,Depression,Eating Disorders,Failure,Family Issues,Hormones,Meditation,Mental Health,Numerology,Past Life,Personal Development,Phobias,Self Harm,Self Worth,Sexual Challenges,Sexual Identity,Spiritual Development,Stress,Teenagers,THURS ZOOM,Trust
ATTACH;FMTTYPE=image/jpeg:https://treeoflifecentre.co.uk/wp-content/uploads/2026/02/trust-intuition.jpeg
END:VEVENT
BEGIN:VEVENT
DTSTART;TZID=UTC:20260507T193000
DTEND;TZID=UTC:20260507T203000
DTSTAMP:20260425T133308
CREATED:20260401T094508Z
LAST-MODIFIED:20260401T094508Z
UID:14090-1778182200-1778185800@treeoflifecentre.co.uk
SUMMARY:The Medicine in our Kitchen
DESCRIPTION:1 hour Zoom session with Patricia. \nReserve your slot now! \nBelow –  you can book a single Zoom workshop or a 10 Zoom passbook. \nIf you already have a passbook\, simply Register with the relevant workshop to reserve your slot. \nShould you have any questions about this webinar prior to booking\, please feel free to contact us on courses@treeoflifecentre.co.uk or call us on 01242 680 450 \nWe look forward to seeing you there!
URL:https://treeoflifecentre.co.uk/event/the-medicine-in-our-kitchen/
LOCATION:ZOOM
CATEGORIES:Abuse,Addiction,ADHD,Anger,Anxiety & Panic,Autism,Bereavement,Bullying,Cancer,Children,Chronic Pain,Communication,Confidence,Couples Counselling,Depression,Eating Disorders,Failure,Family Issues,Hormones,Meditation,Mental Health,Numerology,Past Life,Personal Development,Phobias,Self Harm,Self Worth,Sexual Challenges,Sexual Identity,Spiritual Development,Stress,Teenagers,THURS ZOOM,Trust
ATTACH;FMTTYPE=image/png:https://treeoflifecentre.co.uk/wp-content/uploads/2026/04/medinkitchen.png
END:VEVENT
END:VCALENDAR