BEGIN:VCALENDAR
VERSION:2.0
PRODID:-//Tree of Life Centre - ECPv6.15.20//NONSGML v1.0//EN
CALSCALE:GREGORIAN
METHOD:PUBLISH
X-ORIGINAL-URL:https://treeoflifecentre.co.uk
X-WR-CALDESC:Events for Tree of Life Centre
REFRESH-INTERVAL;VALUE=DURATION:PT1H
X-Robots-Tag:noindex
X-PUBLISHED-TTL:PT1H
BEGIN:VTIMEZONE
TZID:UTC
BEGIN:STANDARD
TZOFFSETFROM:+0000
TZOFFSETTO:+0000
TZNAME:UTC
DTSTART:20230101T000000
END:STANDARD
END:VTIMEZONE
BEGIN:VEVENT
DTSTART;TZID=UTC:20240201T193000
DTEND;TZID=UTC:20240201T203000
DTSTAMP:20260425T132822
CREATED:20231124T143719Z
LAST-MODIFIED:20231124T143719Z
UID:9744-1706815800-1706819400@treeoflifecentre.co.uk
SUMMARY:Intention Meditation
DESCRIPTION:1 hour Zoom session with Patricia. \nReserve your slot now! \nBelow –  you can book a single Zoom workshop\, a 10 Zoom passbook – or sign up for an annual subscription. \nIf you already have a passbook or subscription with us\, simply Register with the relevant workshop to reserve your slot. \nShould you have any questions about this webinar prior to booking\, please feel free to contact us on courses@treeoflifecentre.co.uk or call us on 01242 680 450 \nWe look forward to seeing you there!
URL:https://treeoflifecentre.co.uk/event/intention-meditation/
LOCATION:ZOOM
CATEGORIES:Abuse,Addiction,ADHD,Anger,Anxiety & Panic,Autism,Bereavement,Bullying,Cancer,Children,Chronic Pain,Communication,Confidence,Couples Counselling,Depression,Eating Disorders,Failure,Family Issues,Hormones,Meditation,Mental Health,Numerology,Past Life,Personal Development,Phobias,Self Harm,Self Worth,Sexual Challenges,Sexual Identity,Spiritual Development,Stress,Teenagers,THURS ZOOM,Trust
ATTACH;FMTTYPE=image/jpeg:https://treeoflifecentre.co.uk/wp-content/uploads/2023/11/intention-meditation-scaled.jpg
END:VEVENT
BEGIN:VEVENT
DTSTART;TZID=UTC:20240224T100000
DTEND;TZID=UTC:20240224T130000
DTSTAMP:20260425T132822
CREATED:20240206T083722Z
LAST-MODIFIED:20240221T162617Z
UID:9776-1708768800-1708779600@treeoflifecentre.co.uk
SUMMARY:Muladhara Chakra Workshop with Jo Cornwall
DESCRIPTION:I am safe\, I am home\, I am grounded\nRooted in strength; an introductory workshop dedicated to exploring and understand the root chakra. \nKnown as Muladhara in Sanskrit\, this is the foundation of our energy system governing our safety\, security and stability. \nIn the workshop we will gain \n\nA deeper understanding of the significance of this chakra on our overall wellbeing\nRecognition of  signs of over and under activity causing feelings of insecurity and fear\nPractical exercise to balance and strengthen this chakra\nThe ability of cultivate resilience empowering us to navigate challenges\nThe ability to integrate healing practices into your life to support balance and vitality\n\nTo register for this workshop or find out more please contact Jo on jo@treeoflifecentre.co.uk or call her on 07557 386 371. \nMeet Jo
URL:https://treeoflifecentre.co.uk/event/muladhara-chakra-workshop-with-jo-cornwall/
LOCATION:Tree of Life Centre
CATEGORIES:Meditation,Stress
ATTACH;FMTTYPE=image/jpeg:https://treeoflifecentre.co.uk/wp-content/uploads/2024/02/root-chakra.jpg
END:VEVENT
BEGIN:VEVENT
DTSTART;TZID=UTC:20240229T193000
DTEND;TZID=UTC:20240229T203000
DTSTAMP:20260425T132822
CREATED:20240213T172449Z
LAST-MODIFIED:20240213T172449Z
UID:9806-1709235000-1709238600@treeoflifecentre.co.uk
SUMMARY:Stepping into the Subconscious Mind
DESCRIPTION:1 hour Zoom session with Patricia. \nReserve your slot now! \nBelow –  you can book a single Zoom workshop\, a 10 Zoom passbook – or sign up for an annual subscription. \nIf you already have a passbook or subscription with us\, simply Register with the relevant workshop to reserve your slot. \nShould you have any questions about this webinar prior to booking\, please feel free to contact us on courses@treeoflifecentre.co.uk or call us on 01242 680 450 \nWe look forward to seeing you there!
URL:https://treeoflifecentre.co.uk/event/stepping-into-the-subconscious-mind/
LOCATION:ZOOM
CATEGORIES:Abuse,Addiction,ADHD,Anger,Anxiety & Panic,Autism,Bereavement,Bullying,Cancer,Children,Chronic Pain,Communication,Confidence,Couples Counselling,Depression,Eating Disorders,Failure,Family Issues,Hormones,Meditation,Mental Health,Numerology,Past Life,Personal Development,Phobias,Self Harm,Self Worth,Sexual Challenges,Sexual Identity,Spiritual Development,Stress,Teenagers,THURS ZOOM,Trust
ATTACH;FMTTYPE=image/jpeg:https://treeoflifecentre.co.uk/wp-content/uploads/2024/02/correctly-spelled-for-website.jpg
END:VEVENT
END:VCALENDAR