BEGIN:VCALENDAR
VERSION:2.0
PRODID:-//Tree of Life Centre - ECPv6.15.20//NONSGML v1.0//EN
CALSCALE:GREGORIAN
METHOD:PUBLISH
X-WR-CALNAME:Tree of Life Centre
X-ORIGINAL-URL:https://treeoflifecentre.co.uk
X-WR-CALDESC:Events for Tree of Life Centre
REFRESH-INTERVAL;VALUE=DURATION:PT1H
X-Robots-Tag:noindex
X-PUBLISHED-TTL:PT1H
BEGIN:VTIMEZONE
TZID:UTC
BEGIN:STANDARD
TZOFFSETFROM:+0000
TZOFFSETTO:+0000
TZNAME:UTC
DTSTART:20220101T000000
END:STANDARD
END:VTIMEZONE
BEGIN:VEVENT
DTSTART;TZID=UTC:20230702T150000
DTEND;TZID=UTC:20230702T180000
DTSTAMP:20260426T000214
CREATED:20230609T163729Z
LAST-MODIFIED:20230611T151300Z
UID:9348-1688310000-1688320800@treeoflifecentre.co.uk
SUMMARY:As You Like It
DESCRIPTION:Join us for an open air theatre event at The Tree of Life Centre. \nLive music with Maxine Babcock (our Interex therapist) and Dylan Asena (our guitar guru) from 3pm\, with the live performance starting at 4pm. \nBBQ selling hamburgers and hotdogs.  Ice cream will also be available to buy during the interval. \nBring blankets or chairs to sit out in our beautiful orchard. \n£10 for Adults\, £4 for Under 18s \nFree Parking \nBook tickets at www.eventbrite.co.uk/e/as-you-like-it-tickets-641060558387 \nWe look forward to seeing you there!
URL:https://treeoflifecentre.co.uk/event/as-you-like-it/
LOCATION:Tree of Life Centre
CATEGORIES:Live,Stress
ATTACH;FMTTYPE=image/jpeg:https://treeoflifecentre.co.uk/wp-content/uploads/2023/06/As-you-like-it-tate.jpg
END:VEVENT
END:VCALENDAR