BEGIN:VCALENDAR
VERSION:2.0
PRODID:-//Tree of Life Centre - ECPv6.15.20//NONSGML v1.0//EN
CALSCALE:GREGORIAN
METHOD:PUBLISH
X-ORIGINAL-URL:https://treeoflifecentre.co.uk
X-WR-CALDESC:Events for Tree of Life Centre
REFRESH-INTERVAL;VALUE=DURATION:PT1H
X-Robots-Tag:noindex
X-PUBLISHED-TTL:PT1H
BEGIN:VTIMEZONE
TZID:UTC
BEGIN:STANDARD
TZOFFSETFROM:+0000
TZOFFSETTO:+0000
TZNAME:UTC
DTSTART:20230101T000000
END:STANDARD
END:VTIMEZONE
BEGIN:VEVENT
DTSTART;TZID=UTC:20240406T100000
DTEND;TZID=UTC:20240407T170000
DTSTAMP:20260425T115848
CREATED:20200507T131839Z
LAST-MODIFIED:20230602T125304Z
UID:3021-1712397600-1712509200@treeoflifecentre.co.uk
SUMMARY:Understanding Subconcious Symbols
DESCRIPTION:The meanings behind colours and objects\nHow to interpret what you see and feel\nGuided visualisation of colours and objects with personalised interpretation\nWork with the ancient hidden messages in animals and trees\nDiscover your nine totem animals and how they influence your path\nGuided visualisations\, with personalised interpretation\n\nYour subconscious mind holds a vast knowledge of symbology which consciously you have forgotten how to interpret. Through your meditations\, visualisations and dreams\, the subconscious is constantly giving you messages that can not only help you to understand where you are\, but will also help you to decide your best course of action forward. This course offers you the knowledge of what your subconscious is really telling you.\nReserve your slot now!  All weekend workshops run from 10am to 5pm on both Saturday and Sunday.\nShould you have any questions about these workshops prior to booking\,  feel free to contact us on courses@treeoflifecentre.co.uk or call us on 01242 680 450 \nWe look forward to seeing you there!
URL:https://treeoflifecentre.co.uk/event/weekend-workshop-1-2/
LOCATION:Tree of Life Centre
CATEGORIES:BCT,Communication,Confidence,Live,Meditate,Meditation,Personal Development,Spiritual Development,Stress,Trust
ATTACH;FMTTYPE=image/jpeg:https://treeoflifecentre.co.uk/wp-content/uploads/2020/05/prayer-crow.jpg
END:VEVENT
END:VCALENDAR