BEGIN:VCALENDAR
VERSION:2.0
PRODID:-//Tree of Life Centre - ECPv6.15.20//NONSGML v1.0//EN
CALSCALE:GREGORIAN
METHOD:PUBLISH
X-ORIGINAL-URL:https://treeoflifecentre.co.uk
X-WR-CALDESC:Events for Tree of Life Centre
REFRESH-INTERVAL;VALUE=DURATION:PT1H
X-Robots-Tag:noindex
X-PUBLISHED-TTL:PT1H
BEGIN:VTIMEZONE
TZID:UTC
BEGIN:STANDARD
TZOFFSETFROM:+0000
TZOFFSETTO:+0000
TZNAME:UTC
DTSTART:20220101T000000
END:STANDARD
END:VTIMEZONE
BEGIN:VEVENT
DTSTART;TZID=UTC:20230109T190000
DTEND;TZID=UTC:20230109T203000
DTSTAMP:20260424T060440
CREATED:20220926T095108Z
LAST-MODIFIED:20221010T140642Z
UID:8545-1673290800-1673296200@treeoflifecentre.co.uk
SUMMARY:A Course in Miracles Group
DESCRIPTION:‘Letting Love lead the way’ \nRECEIVING THE PEACE AND FREEDOM OF A STILL AND QUIET MIND \nMeeting together to learn\, share and embrace the principles and message of A Course in Miracles \nBeginning 7.00pm Monday Evenings January 2023 \nTo reserve a place or for more information \nplease contact Paul Bradley: 07512 639246  \njointwill44@gmail.com \n£10 per session \nPlease arrive a little beforehand so you can prepare. And please bring your own copy of the Course if you have one. \nPaul is an intuitive teacher and coach and has been working within the field of health and consciousness for over 30 years.
URL:https://treeoflifecentre.co.uk/event/a-course-in-miracles-group/
LOCATION:Tree of Life Centre
CATEGORIES:Live,miracles
ATTACH;FMTTYPE=image/jpeg:https://treeoflifecentre.co.uk/wp-content/uploads/2021/02/Thursday-Guided-med-5.jpg
END:VEVENT
END:VCALENDAR