BEGIN:VCALENDAR
VERSION:2.0
PRODID:-//Tree of Life Centre - ECPv6.15.20//NONSGML v1.0//EN
CALSCALE:GREGORIAN
METHOD:PUBLISH
X-ORIGINAL-URL:https://treeoflifecentre.co.uk
X-WR-CALDESC:Events for Tree of Life Centre
REFRESH-INTERVAL;VALUE=DURATION:PT1H
X-Robots-Tag:noindex
X-PUBLISHED-TTL:PT1H
BEGIN:VTIMEZONE
TZID:UTC
BEGIN:STANDARD
TZOFFSETFROM:+0000
TZOFFSETTO:+0000
TZNAME:UTC
DTSTART:20230101T000000
END:STANDARD
END:VTIMEZONE
BEGIN:VEVENT
DTSTART;TZID=UTC:20240511T100000
DTEND;TZID=UTC:20240512T170000
DTSTAMP:20260425T122230
CREATED:20200507T134656Z
LAST-MODIFIED:20240213T172747Z
UID:3036-1715421600-1715533200@treeoflifecentre.co.uk
SUMMARY:Guides\, Ghost\, Spirits and Entities
DESCRIPTION:What happens when we die\nWorking with entities – how do they attach and why\nProtection techniques – understanding why protection is so important\nThe difference between ghosts and spirits\, and their significance\nLey Line Field Trip\nMeeting and working with guides\nQuestion and answer time with your guide\nInterpretations\, demonstrations and explanations\n\nThere are many more dimensions to our world other than the one we can see\, feel\, hear and touch. Right next door to you\, now\, where you sit\, there is a complete other world going on and beyond that world… another.\nCome and discover these other worlds. The spirits you do want to talk to and those that you don’t! \nDay two of this course finds us discovering the magical power of energy lines.\nOur field trip takes us on a hands-on practical adventure into the geopathic energy fields that affect our daily lives.\n\nReserve your slot now!  All weekend workshops run from 10am to 5pm on both Saturday and Sunday.\nShould you have any questions about these workshops prior to booking\,  feel free to contact us on courses@treeoflifecentre.co.uk or call us on 01242 680 450 \nWe look forward to seeing you there!
URL:https://treeoflifecentre.co.uk/event/weekend-workshop-3/
LOCATION:Tree of Life Centre
CATEGORIES:Anxiety & Panic,BCT,Communication,Confidence,Depression,Live,Meditate,Meditation,Mental Health,Personal Development,Spiritual Development,Trust
ATTACH;FMTTYPE=image/jpeg:https://treeoflifecentre.co.uk/wp-content/uploads/2020/05/WW-ghosts.jpg
END:VEVENT
END:VCALENDAR