BEGIN:VCALENDAR
VERSION:2.0
PRODID:-//Tree of Life Centre - ECPv6.15.20//NONSGML v1.0//EN
CALSCALE:GREGORIAN
METHOD:PUBLISH
X-WR-CALNAME:Tree of Life Centre
X-ORIGINAL-URL:https://treeoflifecentre.co.uk
X-WR-CALDESC:Events for Tree of Life Centre
REFRESH-INTERVAL;VALUE=DURATION:PT1H
X-Robots-Tag:noindex
X-PUBLISHED-TTL:PT1H
BEGIN:VTIMEZONE
TZID:UTC
BEGIN:STANDARD
TZOFFSETFROM:+0000
TZOFFSETTO:+0000
TZNAME:UTC
DTSTART:20220101T000000
END:STANDARD
END:VTIMEZONE
BEGIN:VEVENT
DTSTART;TZID=UTC:20230909T100000
DTEND;TZID=UTC:20230909T130000
DTSTAMP:20260426T000227
CREATED:20230803T103524Z
LAST-MODIFIED:20230803T103613Z
UID:9581-1694253600-1694264400@treeoflifecentre.co.uk
SUMMARY:Chakra Workshop with Jo Cornwall
DESCRIPTION:There are seven main chakras which each correspond to specific areas of the body and during this workshop you will learn how to work with this life force energy so that you can understand and support your own wellbeing better. \nJoin this workshop to learn from Jo about the effect that the chakras\, or energy centres\, have on our emotional\, mental and physical wellbeing. \nTo register for this workshop or find out more please contact Jo on jo@treeoflifecentre.co.uk or call her on 07557 386 371. \nMeet Jo
URL:https://treeoflifecentre.co.uk/event/chakra-workshop-with-jo-cornwall/
LOCATION:Tree of Life Centre
CATEGORIES:Live,Meditation,Stress
ATTACH;FMTTYPE=image/jpeg:https://treeoflifecentre.co.uk/wp-content/uploads/2023/08/chakras.jpg
END:VEVENT
BEGIN:VEVENT
DTSTART;TZID=UTC:20230923T100000
DTEND;TZID=UTC:20230923T160000
DTSTAMP:20260426T000227
CREATED:20230618T090542Z
LAST-MODIFIED:20230818T134951Z
UID:9412-1695463200-1695484800@treeoflifecentre.co.uk
SUMMARY:Enhancing your own balance
DESCRIPTION:With 29 years in professional practice Sarah is sharing her knowledge of health and finding balance for ourselves. \nShe will be teaching the spine and digestive system on the feet and how this can affect the whole body. Learn how to help friends and family with the art of touch. \n\nThere will be lifestyle advice.\nRecipes for healthy tasty options.\nLiving in the present moment and more.\n\nYes the menopause and hormonal health will be a big part of the day! \nThe day will be focused but a relaxed approach for anyone interested in finding health and balance in this all too often stressful world we live in. \nFind the essence of you again! \nAll enquiries please do not hesitate to contact Sarah on 07779873717 \nMeet Sarah \n 
URL:https://treeoflifecentre.co.uk/event/reflexology-workshop-with-sarah-rogers/
LOCATION:Tree of Life Centre
CATEGORIES:Live,Meditation,Stress
ATTACH;FMTTYPE=image/jpeg:https://treeoflifecentre.co.uk/wp-content/uploads/2020/06/sarah-therapist_opt.jpg
END:VEVENT
END:VCALENDAR