BEGIN:VCALENDAR
VERSION:2.0
PRODID:-//Tree of Life Centre - ECPv6.15.20//NONSGML v1.0//EN
CALSCALE:GREGORIAN
METHOD:PUBLISH
X-WR-CALNAME:Tree of Life Centre
X-ORIGINAL-URL:https://treeoflifecentre.co.uk
X-WR-CALDESC:Events for Tree of Life Centre
REFRESH-INTERVAL;VALUE=DURATION:PT1H
X-Robots-Tag:noindex
X-PUBLISHED-TTL:PT1H
BEGIN:VTIMEZONE
TZID:UTC
BEGIN:STANDARD
TZOFFSETFROM:+0000
TZOFFSETTO:+0000
TZNAME:UTC
DTSTART:20190101T000000
END:STANDARD
END:VTIMEZONE
BEGIN:VEVENT
DTSTART;TZID=UTC:20240914T100000
DTEND;TZID=UTC:20240915T170000
DTSTAMP:20260424T043136
CREATED:20200507T124835Z
LAST-MODIFIED:20240906T113750Z
UID:2997-1726308000-1726419600@treeoflifecentre.co.uk
SUMMARY:Exploring the Energy Fields of the Body
DESCRIPTION:Pendulums and the mystery behind them. Using pendulums for allergy testing – discover what or who you are allergic to: emotionally and physically. Using pendulums for self-questioning. Learn how to “ask” your pendulum.\n\n\nWorking with the seven chakra system. Learn how these chakras spin\, whether they are correctly balanced\, and how to re-balance and cleanse blockages which lead to illness and lack of intuition.\n\n\nMeridian lines and energy fields\, derived from Chinese acupuncture; understanding the structure and interaction of meridian lines shows us where we hold physical blocks within our bodies.\n\n\nMany people say\, “I can’t see!”. Every person can see! Discover how you see.\n\n\nIntuition and confidence exercises. Techniques to enhance visualisation.\n\n\nClairaudience\, Clairvoyance\, and Clairsentience. Discover how to develop these skills and enhance your strongest gift.\n\n\nBasic Psychometry. Develops your ability to link to another person’s energy through an object they have worn.\n\n\nIn our search to understand the connection of our physical and spiritual selves we often ask for “proof” that energies do exist. In day one of this course\, Patricia Sterry explores pendulum techniques that enable us to experience visual confirmation of the physical and spiritual energies that flow through our bodies.\nDay two finds you bringing this understanding to the development of “inner sight”; imagery within the third eye. Exercises and visualisation techniques are combined to strengthen our perceptive intuition and psychic abilities.\nReserve your slot now!  All weekend workshops run from 10am to 5pm on both Saturday and Sunday.\nShould you have any questions about these workshops prior to booking\,  feel free to contact us on courses@treeoflifecentre.co.uk or call us on 01242 680 450 \nWe look forward to seeing you there!
URL:https://treeoflifecentre.co.uk/event/weekend-workshop-1/
LOCATION:Tree of Life Centre
CATEGORIES:Abuse,Addiction,Anger,Anxiety & Panic,BCT,Bullying,Cancer,chakras,Communication,Confidence,Couples Counselling,Depression,Failure,Family Issues,Food/Nutrition,Headaches & Migraines,Hormones,Immune System,Live,Meditation,Personal Development,Phobias,Self Worth,Spiritual Development,Stress,Trust
ATTACH;FMTTYPE=image/jpeg:https://treeoflifecentre.co.uk/wp-content/uploads/2020/05/fountain-3412242_640.jpg
END:VEVENT
BEGIN:VEVENT
DTSTART;TZID=UTC:20240608T100000
DTEND;TZID=UTC:20240609T170000
DTSTAMP:20260424T043136
CREATED:20200507T160051Z
LAST-MODIFIED:20240213T173642Z
UID:3051-1717840800-1717952400@treeoflifecentre.co.uk
SUMMARY:Explaining the Subconscious Mind
DESCRIPTION:Understanding Karmic debts and Life Path discovery\nIntroduction to Numerology\nEmotional causes behind physical illnesses\nAffirmations and re-patterning the subconscious\nGuided visualisation to find an aspect of the self that needs to be understood and re-patterned\n\nEvery soul comes into this life with its own unique pathway. The day that we are born\, the name that we are given all hold clues as to what we have chosen to experience in this life time.\nIt is every souls greatest challenge to achieve a balanced responsibility of the self.\nDiscover the clues that you were born with\, what your physical illness’s are telling you and how to re-pattern the thought processes you hold in your subconscious that no longer serve you.\nReserve your slot now!  All weekend workshops run from 10am to 5pm on both Saturday and Sunday.\nShould you have any questions about these workshops prior to booking\,  feel free to contact us on courses@treeoflifecentre.co.uk or call us on 01242 680 450 \nWe look forward to seeing you there!
URL:https://treeoflifecentre.co.uk/event/weekend-workshop-4/
LOCATION:Tree of Life Centre
CATEGORIES:Abuse,Addiction,ADHD,Anger,Anxiety & Panic,Back Pain,BCT,Bereavement,Bullying,Cancer,Chronic Pain,Communication,Confidence,Depression,Diabetes,Digestive Issues,Dyslexia,Eating Disorders,Failure,Family Issues,Headaches & Migraines,Hormones,Immune System,Infertility,Live,Mental Health,Numerology,Personal Development,Phobias,Physical Injury,Pregnancy,Self Harm,Self Worth,Sexual Challenges,Spiritual Development,Stress,Trust
ATTACH;FMTTYPE=image/jpeg:https://treeoflifecentre.co.uk/wp-content/uploads/2020/05/ww-4.jpg
END:VEVENT
BEGIN:VEVENT
DTSTART;TZID=UTC:20240101T100000
DTEND;TZID=UTC:20240102T170000
DTSTAMP:20260424T043136
CREATED:20230309T145550Z
LAST-MODIFIED:20240106T111023Z
UID:9097-1704103200-1704214800@treeoflifecentre.co.uk
SUMMARY:Exploring the Energy Fields of the Body Date Option 2
DESCRIPTION:Pendulums and the mystery behind them. Using pendulums for allergy testing – discover what or who you are allergic to: emotionally and physically. Using pendulums for self-questioning. Learn how to “ask” your pendulum.\n\n\nWorking with the seven chakra system. Learn how these chakras spin\, whether they are correctly balanced\, and how to re-balance and cleanse blockages which lead to illness and lack of intuition.\n\n\nMeridian lines and energy fields\, derived from Chinese acupuncture; understanding the structure and interaction of meridian lines shows us where we hold physical blocks within our bodies.\n\n\nMany people say\, “I can’t see!”. Every person can see! Discover how you see.\n\n\nIntuition and confidence exercises. Techniques to enhance visualisation.\n\n\nClairaudience\, Clairvoyance\, and Clairsentience. Discover how to develop these skills and enhance your strongest gift.\n\n\nBasic Psychometry. Develops your ability to link to another person’s energy through an object they have worn.\n\n\nIn our search to understand the connection of our physical and spiritual selves we often ask for “proof” that energies do exist. In day one of this course\, Patricia Sterry explores pendulum techniques that enable us to experience visual confirmation of the physical and spiritual energies that flow through our bodies.\nDay two finds you bringing this understanding to the development of “inner sight”; imagery within the third eye. Exercises and visualisation techniques are combined to strengthen our perceptive intuition and psychic abilities.\nReserve your slot now!  All weekend workshops run from 10am to 5pm on both Saturday and Sunday.\nShould you have any questions about these workshops prior to booking\,  feel free to contact us on courses@treeoflifecentre.co.uk or call us on 01242 680 450 \nWe look forward to seeing you there!
URL:https://treeoflifecentre.co.uk/event/exploring-the-energy-fields-of-the-body-date-option-2/
LOCATION:Tree of Life Centre
CATEGORIES:Abuse,Addiction,Anger,Anxiety & Panic,BCT,Bullying,Cancer,chakras,Communication,Confidence,Couples Counselling,Depression,Failure,Family Issues,Food/Nutrition,Headaches & Migraines,Hormones,Immune System,Live,Meditation,Personal Development,Phobias,Self Worth,Spiritual Development,Stress,Trust
ATTACH;FMTTYPE=image/jpeg:https://treeoflifecentre.co.uk/wp-content/uploads/2020/05/fountain-3412242_640.jpg
END:VEVENT
BEGIN:VEVENT
DTSTART;TZID=UTC:20220515T100000
DTEND;TZID=UTC:20220515T170000
DTSTAMP:20260424T043136
CREATED:20200507T160809Z
LAST-MODIFIED:20220507T113257Z
UID:3055-1652608800-1652634000@treeoflifecentre.co.uk
SUMMARY:Bowel meets Brain
DESCRIPTION:This workshop offers you an amazing opportunity to work with Patricia Sterry as she combines her in-depth knowledge of the physical\, mental and emotional \, with the culinary creations of Chef John Blackman\, to take you to an in-depth understanding of the importance of the interaction between your bowel\, liver and brain. Many of our behaviours and those of our children\, partners and pets are compromised by the physical manifestation of chemical imbalances created within the body. Learn which foods destroy this crucial triangle and how to physically clear these systems to give you and yours a new lease of life full of the energy and clarity of mind to achieve all that you want in your new year. \nCovered in the course:\n\nHow the bowel effects memory loss\nBuilding positive enzymes\nCandida – its cause and cure\nExplaining Preservatives\, Additives\, e-numbers and fillers\nUnderstanding the emotional and physical marriage of the Liver and Bowel\nHormones and the “bowel howl”\nHyperactivity in children\nHow to use Herbs\, Fruits\, Vegetables and Grains\nVitamins – what works for you and what works against you\n\nBut as we all know\, it’s not only the topic\, but who presents the knowledge that is so important and Tricia’s passion turns the day into one of pure enjoyment.\nFor this event\, Beth & Josh will be creating a variety of dishes from different diets – including gluten free\, dairy free\, Gundry\, Blood types\, Fodmap and GL amongst others. Recipes which offer you delicious healthy alternatives will be available to sample on the day.  Much fun is had by all as we eat our way to understanding!\n  \nReserve your slot now!\nShould you have any questions about these workshops prior to booking\,  feel free to contact us on courses@treeoflifecentre.co.uk or call us on 01242 680 450 \nWe look forward to seeing you there!
URL:https://treeoflifecentre.co.uk/event/bowel-meets-brain/
LOCATION:Tree of Life Centre
CATEGORIES:Depression,Diabetes,Digestive Issues,Eating Disorders,Food/Nutrition,Headaches & Migraines,Hormones,Immune System,Infertility,Live,Mental Health,Physical Injury,Stress
ATTACH;FMTTYPE=image/jpeg:https://treeoflifecentre.co.uk/wp-content/uploads/2020/05/josh-bowel-2.jpg
END:VEVENT
BEGIN:VEVENT
DTSTART;TZID=UTC:20211012T170000
DTEND;TZID=UTC:20211012T180000
DTSTAMP:20260424T043136
CREATED:20200519T130041Z
LAST-MODIFIED:20211020T172734Z
UID:3105-1634058000-1634061600@treeoflifecentre.co.uk
SUMMARY:Cervical Disc Disease
DESCRIPTION:“Interactive Neuromodulation & Red Light Therapy for patients with Cervical DISC disease” \nSubjects covered: \n\nNature of Disc disease.\nClinical features.\nCervical vertebras mis-alighnment. Cranio-Atlas and Atlas/Axis junction. Ways for correction.\nUse of Interactive Neuromodulation in combination with Photobiomodulation for pain relief.\nCase studies. Protocol and expected outcomes\n\n£20\nTo enrol: https://www.healthhubuk.com/events-list
URL:https://treeoflifecentre.co.uk/event/flexbeam-on-cervical-disc-disease/
LOCATION:Zoom Webinar
CATEGORIES:Chronic Pain,Flex beam,Headaches & Migraines,InterX,Physical Injury
ATTACH;FMTTYPE=image/jpeg:https://treeoflifecentre.co.uk/wp-content/uploads/2020/08/zulia-website.jpg
END:VEVENT
BEGIN:VEVENT
DTSTART;TZID=UTC:20210826T193000
DTEND;TZID=UTC:20210826T203000
DTSTAMP:20260424T043136
CREATED:20210221T141008Z
LAST-MODIFIED:20210518T152707Z
UID:5316-1630006200-1630009800@treeoflifecentre.co.uk
SUMMARY:Guided Meditation #5
DESCRIPTION:1 hour Zoom session with Patricia. \nReserve your slot now! \nBelow –  you can book a single Zoom workshop\, a 10 Zoom passbook – or sign up for an annual subscription.  \nIf you already have a passbook or subscription with us\, simply Register with the relevant workshop to reserve your slot.  \nShould you have any questions about this webinar prior to booking\, please feel free to contact us on courses@treeoflifecentre.co.uk or call us on 01242 680 450 \nWe look forward to seeing you there!
URL:https://treeoflifecentre.co.uk/event/guided-meditation-5/
LOCATION:ZOOM
CATEGORIES:Abuse,Addiction,ADHD,Anger,Anxiety & Panic,Autism,Back Pain,BCT,Bereavement,Bullying,Business Mentoring,Cancer,chakras,Chronic Pain,Communication,Confidence,Couples Counselling,Depression,Diabetes,Digestive Issues,Dyslexia,Eating Disorders,Failure,Family Issues,Headaches & Migraines,Hormones,Immune System,Infertility,Meditation,Mental Health,Numerology,Past Life,Personal Development,Phobias,Physical Injury,Pregnancy,Self Harm,Self Worth,Sexual Challenges,Sexual Identity,Spiritual Development,Stress,Teenagers,THURS ZOOM,Trust
ATTACH;FMTTYPE=image/jpeg:https://treeoflifecentre.co.uk/wp-content/uploads/2021/02/Thursday-Guided-med-6.jpg
END:VEVENT
BEGIN:VEVENT
DTSTART;TZID=UTC:20210812T193000
DTEND;TZID=UTC:20210812T203000
DTSTAMP:20260424T043136
CREATED:20210221T141041Z
LAST-MODIFIED:20210303T102342Z
UID:5315-1628796600-1628800200@treeoflifecentre.co.uk
SUMMARY:How we Affect our Children Part 2
DESCRIPTION:1 hour Zoom session with Patricia. \nReserve your slot now! \nBelow –  you can book a single Zoom workshop\, a 10 Zoom passbook – or sign up for an annual subscription.  \nIf you already have a passbook or subscription with us\, simply Register with the relevant workshop to reserve your slot.  \nShould you have any questions about this webinar prior to booking\, please feel free to contact us on courses@treeoflifecentre.co.uk or call us on 01242 680 450 \nWe look forward to seeing you there!
URL:https://treeoflifecentre.co.uk/event/how-do-we-affect-our-children-pt-2/
LOCATION:ZOOM
CATEGORIES:Abuse,Addiction,ADHD,Anger,Anxiety & Panic,Autism,Bereavement,Bullying,Cancer,Children,Chronic Pain,Communication,Confidence,Couples Counselling,Depression,Digestive Issues,Eating Disorders,Failure,Family Issues,Headaches & Migraines,Infertility,Meditation,Mental Health,Past Life,Personal Development,Phobias,Physical Injury,Pregnancy,Self Harm,Self Worth,Sexual Challenges,Sexual Identity,Spiritual Development,Stress,Teenagers,THURS ZOOM,Trust
ATTACH;FMTTYPE=image/jpeg:https://treeoflifecentre.co.uk/wp-content/uploads/2021/02/effect-our-childern-part-2-big.jpg
END:VEVENT
BEGIN:VEVENT
DTSTART;TZID=UTC:20210722T193000
DTEND;TZID=UTC:20210722T203000
DTSTAMP:20260424T043136
CREATED:20210221T141259Z
LAST-MODIFIED:20210303T102157Z
UID:5319-1626982200-1626985800@treeoflifecentre.co.uk
SUMMARY:How we Affect our Children Part 1
DESCRIPTION:1 hour Zoom session with Patricia. \nReserve your slot now! \nBelow –  you can book a single Zoom workshop\, a 10 Zoom passbook – or sign up for an annual subscription.  \nIf you already have a passbook or subscription with us\, simply Register with the relevant workshop to reserve your slot.  \nShould you have any questions about this webinar prior to booking\, please feel free to contact us on courses@treeoflifecentre.co.uk or call us on 01242 680 450 \nWe look forward to seeing you there!
URL:https://treeoflifecentre.co.uk/event/how-do-we-affect-our-children-pt-1/
LOCATION:ZOOM
CATEGORIES:Abuse,Addiction,ADHD,Anger,Anxiety & Panic,Autism,Bereavement,Bullying,Children,Communication,Confidence,Couples Counselling,Depression,Digestive Issues,Eating Disorders,Failure,Family Issues,Headaches & Migraines,Hormones,Infertility,Meditation,Mental Health,Past Life,Personal Development,Phobias,Pregnancy,Self Harm,Self Worth,Sexual Challenges,Sexual Identity,Spiritual Development,Stress,Teenagers,THURS ZOOM,Trust
ATTACH;FMTTYPE=image/jpeg:https://treeoflifecentre.co.uk/wp-content/uploads/2021/02/effect-our-children-part-1-big.jpg
END:VEVENT
BEGIN:VEVENT
DTSTART;TZID=UTC:20210708T193000
DTEND;TZID=UTC:20210708T203000
DTSTAMP:20260424T043136
CREATED:20210221T141319Z
LAST-MODIFIED:20210518T153100Z
UID:5311-1625772600-1625776200@treeoflifecentre.co.uk
SUMMARY:Guided Meditation #4
DESCRIPTION:1 hour Zoom session with Patricia. \nReserve your slot now! \nBelow –  you can book a single Zoom workshop\, a 10 Zoom passbook – or sign up for an annual subscription.  \nIf you already have a passbook or subscription with us\, simply Register with the relevant workshop to reserve your slot.  \nShould you have any questions about this webinar prior to booking\, please feel free to contact us on courses@treeoflifecentre.co.uk or call us on 01242 680 450 \nWe look forward to seeing you there!
URL:https://treeoflifecentre.co.uk/event/guided-meditation-4/
LOCATION:ZOOM
CATEGORIES:Abuse,Addiction,ADHD,Anger,Anxiety & Panic,Autism,Back Pain,BCT,Bereavement,Bullying,Business Mentoring,Cancer,chakras,Chronic Pain,Communication,Confidence,Couples Counselling,Depression,Diabetes,Digestive Issues,Dyslexia,Eating Disorders,Failure,Family Issues,Headaches & Migraines,Hormones,Immune System,Infertility,Meditation,Mental Health,Numerology,Past Life,Personal Development,Phobias,Physical Injury,Pregnancy,Self Harm,Self Worth,Sexual Challenges,Sexual Identity,Spiritual Development,Stress,Teenagers,THURS ZOOM,Trust
ATTACH;FMTTYPE=image/jpeg:https://treeoflifecentre.co.uk/wp-content/uploads/2021/02/Thursday-guided-med-4.jpg
END:VEVENT
BEGIN:VEVENT
DTSTART;TZID=UTC:20210522T100000
DTEND;TZID=UTC:20210523T170000
DTSTAMP:20260424T043136
CREATED:20210305T102741Z
LAST-MODIFIED:20210312T164605Z
UID:5441-1621677600-1621789200@treeoflifecentre.co.uk
SUMMARY:Exploring the Energy Fields of the Body  Date Option 2
DESCRIPTION:Pendulums and the mystery behind them. Using pendulums for allergy testing – discover what or who you are allergic to: emotionally and physically. Using pendulums for self-questioning. Learn how to “ask” your pendulum.\n\n\nWorking with the seven chakra system. Learn how these chakras spin\, whether they are correctly balanced\, and how to re-balance and cleanse blockages which lead to illness and lack of intuition.\n\n\nMeridian lines and energy fields\, derived from Chinese acupuncture; understanding the structure and interaction of meridian lines shows us where we hold physical blocks within our bodies.\n\n\nMany people say\, “I can’t see!”. Every person can see! Discover how you see.\n\n\nIntuition and confidence exercises. Techniques to enhance visualisation.\n\n\nClairaudience\, Clairvoyance\, and Clairsentience. Discover how to develop these skills and enhance your strongest gift.\n\n\nBasic Psychometry. Develops your ability to link to another person’s energy through an object they have worn.\n\n\nIn our search to understand the connection of our physical and spiritual selves we often ask for “proof” that energies do exist. In day one of this course\, Patricia Sterry explores pendulum techniques that enable us to experience visual confirmation of the physical and spiritual energies that flow through our bodies.\nDay two finds you bringing this understanding to the development of “inner sight”; imagery within the third eye. Exercises and visualisation techniques are combined to strengthen our perceptive intuition and psychic abilities.\n  \nReserve your slot now!  All weekend workshops run from 10am to 5pm on both Saturday and Sunday.\nBelow –  you can book a single Weekend Workshop\, set up a monthly payment if you would like to attend all 5 – or pay for all 5 up front at a discounted rate. \nNote- if you choose a package (monthly or upfront payment) please still register for each workshop to reserve your slot. \nShould you have any questions about these workshops prior to booking\,  feel free to contact us on courses@treeoflifecentre.co.uk or call us on 01242 680 450 \nWe look forward to seeing you there! \n \n 
URL:https://treeoflifecentre.co.uk/event/exploring-the-energy-fields-of-the-body-2/
LOCATION:Tree of Life Centre
CATEGORIES:Abuse,Addiction,Anger,Anxiety & Panic,BCT,Bullying,Cancer,chakras,Communication,Confidence,Couples Counselling,Depression,Failure,Family Issues,Food/Nutrition,Headaches & Migraines,Hormones,Immune System,Live,Meditation,Personal Development,Phobias,Self Worth,Spiritual Development,Stress,Trust
ATTACH;FMTTYPE=image/jpeg:https://treeoflifecentre.co.uk/wp-content/uploads/2020/05/fountain-3412242_640.jpg
END:VEVENT
BEGIN:VEVENT
DTSTART;TZID=UTC:20210520T193000
DTEND;TZID=UTC:20210520T203000
DTSTAMP:20260424T043136
CREATED:20210221T142245Z
LAST-MODIFIED:20210518T152852Z
UID:5250-1621539000-1621542600@treeoflifecentre.co.uk
SUMMARY:Guided Meditation #3
DESCRIPTION:1 hour Zoom session with Patricia. \nReserve your slot now! \nBelow –  you can book a single Zoom workshop\, a 10 Zoom passbook – or sign up for an annual subscription.  \nIf you already have a passbook or subscription with us\, simply Register with the relevant workshop to reserve your slot.  \nShould you have any questions about this webinar prior to booking\, please feel free to contact us on courses@treeoflifecentre.co.uk or call us on 01242 680 450 \nWe look forward to seeing you there!
URL:https://treeoflifecentre.co.uk/event/guided-meditation-3/
LOCATION:ZOOM
CATEGORIES:Abuse,Addiction,ADHD,Anger,Anxiety & Panic,Autism,Back Pain,BCT,Bereavement,Bullying,Business Mentoring,Cancer,chakras,Chronic Pain,Communication,Confidence,Couples Counselling,Depression,Diabetes,Digestive Issues,Dyslexia,Eating Disorders,Failure,Family Issues,Headaches & Migraines,Hormones,Immune System,Infertility,Meditation,Mental Health,Numerology,Past Life,Personal Development,Phobias,Physical Injury,Pregnancy,Self Harm,Self Worth,Sexual Challenges,Sexual Identity,Spiritual Development,Stress,Teenagers,THURS ZOOM,Trust
ATTACH;FMTTYPE=image/jpeg:https://treeoflifecentre.co.uk/wp-content/uploads/2021/02/Thursday-Guided-med-5.jpg
END:VEVENT
BEGIN:VEVENT
DTSTART;TZID=UTC:20210422T193000
DTEND;TZID=UTC:20210422T203000
DTSTAMP:20260424T043136
CREATED:20210221T142419Z
LAST-MODIFIED:20210422T155736Z
UID:5243-1619119800-1619123400@treeoflifecentre.co.uk
SUMMARY:Why do we have such tough lives?
DESCRIPTION:1 hour Zoom session with Patricia. \nReserve your slot now! \nBelow –  you can book a single Zoom workshop\, a 10 Zoom passbook – or sign up for an annual subscription.  \nIf you already have a passbook or subscription with us\, simply Register with the relevant workshop to reserve your slot.  \nShould you have any questions about this webinar prior to booking\, please feel free to contact us on courses@treeoflifecentre.co.uk or call us on 01242 680 450 \nWe look forward to seeing you there!
URL:https://treeoflifecentre.co.uk/event/why-do-we-have-such-tough-lives/
LOCATION:ZOOM
CATEGORIES:Abuse,Addiction,ADHD,Anger,Anxiety & Panic,Autism,Back Pain,Bereavement,Bullying,Business Mentoring,Cancer,Children,Chronic Pain,Communication,Confidence,Couples Counselling,Depression,Diabetes,Digestive Issues,Dyslexia,Eating Disorders,Failure,Family Issues,Headaches & Migraines,Hormones,Immune System,Infertility,Meditation,Mental Health,Past Life,Personal Development,Phobias,Physical Injury,Pregnancy,Self Harm,Self Worth,Sexual Challenges,Sexual Identity,Spiritual Development,Stress,Teenagers,THURS ZOOM,Trust
ATTACH;FMTTYPE=image/jpeg:https://treeoflifecentre.co.uk/wp-content/uploads/2021/02/harsh-lives.jpg
END:VEVENT
BEGIN:VEVENT
DTSTART;TZID=UTC:20210408T193000
DTEND;TZID=UTC:20210408T203000
DTSTAMP:20260424T043136
CREATED:20210221T142437Z
LAST-MODIFIED:20210303T110514Z
UID:5305-1617910200-1617913800@treeoflifecentre.co.uk
SUMMARY:Guided Meditation 2
DESCRIPTION:1 hour Zoom session with Patricia. \nReserve your slot now! \nBelow –  you can book a single Zoom workshop\, a 10 Zoom passbook – or sign up for an annual subscription.  \nIf you already have a passbook or subscription with us\, simply Register with the relevant workshop to reserve your slot.  \nShould you have any questions about this webinar prior to booking\, please feel free to contact us on courses@treeoflifecentre.co.uk or call us on 01242 680 450 \nWe look forward to seeing you there!
URL:https://treeoflifecentre.co.uk/event/guided-meditation-2/
LOCATION:ZOOM
CATEGORIES:Abuse,Addiction,ADHD,Anger,Anxiety & Panic,Autism,Back Pain,BCT,Bereavement,Bullying,Business Mentoring,Cancer,chakras,Chronic Pain,Communication,Confidence,Couples Counselling,Depression,Diabetes,Digestive Issues,Dyslexia,Eating Disorders,Failure,Family Issues,Headaches & Migraines,Hormones,Immune System,Infertility,Meditation,Mental Health,Past Life,Personal Development,Phobias,Physical Injury,Pregnancy,Self Harm,Self Worth,Sexual Challenges,Sexual Identity,Spiritual Development,Stress,Teenagers,THURS ZOOM,Trust
ATTACH;FMTTYPE=image/jpeg:https://treeoflifecentre.co.uk/wp-content/uploads/2021/02/Thursday-guided-med-2.jpg
END:VEVENT
BEGIN:VEVENT
DTSTART;TZID=UTC:20210204T193000
DTEND;TZID=UTC:20210204T203000
DTSTAMP:20260424T043136
CREATED:20210126T160233Z
LAST-MODIFIED:20210203T165020Z
UID:5220-1612467000-1612470600@treeoflifecentre.co.uk
SUMMARY:Our Energy Fields Around Us
DESCRIPTION:Zoom session with Patricia.\nTo book or enquire about this session\, please complete the enquiry form below or contact us on info@treeoflifecentre.co.uk or call us on 01242 680 450.\n  [wpforms id=”4996″]
URL:https://treeoflifecentre.co.uk/event/energy-fields/
LOCATION:ZOOM
CATEGORIES:Abuse,Addiction,Anger,Anxiety & Panic,BCT,Bullying,Cancer,chakras,Communication,Confidence,Couples Counselling,Depression,Failure,Family Issues,Food/Nutrition,Headaches & Migraines,Hormones,Immune System,Meditation,Personal Development,Phobias,Self Worth,Spiritual Development,Stress,THURS ZOOM,Trust
ATTACH;FMTTYPE=image/jpeg:https://treeoflifecentre.co.uk/wp-content/uploads/2021/01/kirlian-hand-image_opt.jpg
END:VEVENT
BEGIN:VEVENT
DTSTART;TZID=UTC:20201119T100000
DTEND;TZID=UTC:20201119T110000
DTSTAMP:20260424T043136
CREATED:20200519T130915Z
LAST-MODIFIED:20201109T072628Z
UID:3110-1605780000-1605783600@treeoflifecentre.co.uk
SUMMARY:FlexBEAM on Neck\, Shoulder and Wrist
DESCRIPTION:“Management of acute and chronic Neck pain\, Shoulder pain\, Wrist pain and Interactive Neuromodulation /Photobiomodulation”\nSubjects covered:\n\n\nUnderstanding pathological changes and differences between acute and chronic neck pain.\n\n\nStructural issues leading to chronic pain in the neck\, shoulder\, arms and hands.\n\n\nCentrally mediated pain.\n\n\nUse of the InterX device with most common conditions\, cervicalgia\, ‘frozen shoulder’ radiculopathy\, disc disease\, fibromyalgia\, osteoarthritis\, etc.\n\n\nStandard treatment approach\, treatment planning.\n\n\nExpected outcomes.\n\n\nTo enroll\, please click here: https://www.healthhubuk.com/enrolment-form\n 
URL:https://treeoflifecentre.co.uk/event/flexbeam-on-neck-shoulder-and-wrist/
LOCATION:Zoom Webinar
CATEGORIES:Chronic Pain,Flex beam,Headaches & Migraines,Physical Injury
ATTACH;FMTTYPE=image/jpeg:https://treeoflifecentre.co.uk/wp-content/uploads/2020/11/flexbeam-shoulder.jpg
END:VEVENT
END:VCALENDAR