BEGIN:VCALENDAR
VERSION:2.0
PRODID:-//Tree of Life Centre - ECPv6.15.20//NONSGML v1.0//EN
CALSCALE:GREGORIAN
METHOD:PUBLISH
X-ORIGINAL-URL:https://treeoflifecentre.co.uk
X-WR-CALDESC:Events for Tree of Life Centre
REFRESH-INTERVAL;VALUE=DURATION:PT1H
X-Robots-Tag:noindex
X-PUBLISHED-TTL:PT1H
BEGIN:VTIMEZONE
TZID:UTC
BEGIN:STANDARD
TZOFFSETFROM:+0000
TZOFFSETTO:+0000
TZNAME:UTC
DTSTART:20190101T000000
END:STANDARD
END:VTIMEZONE
BEGIN:VEVENT
DTSTART;TZID=UTC:20210605T090000
DTEND;TZID=UTC:20210605T110000
DTSTAMP:20260424T094653
CREATED:20210224T111055Z
LAST-MODIFIED:20210602T172653Z
UID:5384-1622883600-1622890800@treeoflifecentre.co.uk
SUMMARY:Q & A  Optimise your InterX and FlexBEAM
DESCRIPTION:Subjects covered: \nThis webinar can help you to close the gaps in your knowledge about Interactive Neuromodulation and Red-light therapy. Here you have the opportunity to get advice on managing specific cases or something that hasn’t been clear since your training.\nYou can ask questions about the regime or even beyond the curriculum\, discussing the physics aspect of both technologies.\nThis time is for us to get a deeper understanding about the impact of these modalities on health. \n\n\nPlease submit your questions via email prior the webinar to zuliaf@interxclinic.com \n\n\n1 hour webinar \n\nTo enroll please click here:  https://www.healthhubuk.com/enrolment-form\n 
URL:https://treeoflifecentre.co.uk/event/q-a-optimise-your-interx-and-flexbeam/
LOCATION:Zoom Webinar
CATEGORIES:Back Pain,Chronic Pain,Depression,Flex beam,InterX,Mental Health,Other webinar
ATTACH;FMTTYPE=image/jpeg:https://treeoflifecentre.co.uk/wp-content/uploads/2020/08/Flexbeam-back-e1596361041401.jpg
END:VEVENT
BEGIN:VEVENT
DTSTART;TZID=UTC:20210313T100000
DTEND;TZID=UTC:20210313T110000
DTSTAMP:20260424T094653
CREATED:20210225T083246Z
LAST-MODIFIED:20210225T084629Z
UID:5408-1615629600-1615633200@treeoflifecentre.co.uk
SUMMARY:Causes and management of lower back pain
DESCRIPTION:Subjects covered: \n\nPossible causes for chronic back pain and understanding the underlying issues leading to the development of lower back pain\nStructural impact and function\nChoosing a correct therapeutic approach in treating lower back\nExpectations and management\nHow the use of Interactive Neuromodulation in combination with Photobiomodulation can enhance the result.\n\n1 hour webinar £20 \nTo enroll please click here:  https://www.healthhubuk.com/events-list\n  \n 
URL:https://treeoflifecentre.co.uk/event/causes-and-management-of-lower-back-pain/
LOCATION:Zoom Webinar
CATEGORIES:Back Pain,Chronic Pain,Depression,Flex beam,InterX,Mental Health,Other webinar
ATTACH;FMTTYPE=image/jpeg:https://treeoflifecentre.co.uk/wp-content/uploads/2021/02/lower-back.jpg
END:VEVENT
BEGIN:VEVENT
DTSTART;TZID=UTC:20210309T090000
DTEND;TZID=UTC:20210309T100000
DTSTAMP:20260424T094653
CREATED:20210225T082438Z
LAST-MODIFIED:20210225T091616Z
UID:5399-1615280400-1615284000@treeoflifecentre.co.uk
SUMMARY:Atlas-Axis Misalignment syndrome
DESCRIPTION:Subjects covered: \n\nWhat is Atlas/Axis junction\nHow misalignment of this vertebras can affect the body. Clinical features.\nWays for correction. How the use of Interactive Neuromodulation in combination with Photobiomodulation can achieve the result non-invasively.\nCase studies. Protocol and expected outcomes\n\n1 hour webinar £20 \nTo enroll please click here:  https://www.healthhubuk.com/events-list\n  \n 
URL:https://treeoflifecentre.co.uk/event/atlas-axis-misalignment-syndrome/
LOCATION:Zoom Webinar
CATEGORIES:Back Pain,Chronic Pain,Depression,Flex beam,InterX,Mental Health,Other webinar
ATTACH;FMTTYPE=image/jpeg:https://treeoflifecentre.co.uk/wp-content/uploads/2020/08/zulia-website.jpg
END:VEVENT
BEGIN:VEVENT
DTSTART;TZID=UTC:20201217T100000
DTEND;TZID=UTC:20201217T110000
DTSTAMP:20260424T094653
CREATED:20201109T080746Z
LAST-MODIFIED:20201109T082817Z
UID:5052-1608199200-1608202800@treeoflifecentre.co.uk
SUMMARY:InterX and FlexBEAM - Understanding and managing of pelvic floor pain
DESCRIPTION:Subjects covered:\n\n\nWhat is pelvic floor pain\, symptoms and manifestation.\n\n\nCurrent management for these conditions.\n\n\nHow Interactive Neurostimulation can help.\n\n\nRLT for treatment of pelvic floor disorders.\n\n\nSupportive research.\n\n\nCombined approach using Neuromodulation and Photobiomodulation for the best results.\n\n\nCase studies\, Treatment approaches\, Treatment protocols and Outcomes\n\n\n\n1 hour webinar £20\n\nTo enroll please click here:  https://www.healthhubuk.com/enrolment-form
URL:https://treeoflifecentre.co.uk/event/interx-and-flexbeam-understanding-and-managing-of-pelvic-floor-pain/
LOCATION:Zoom Webinar
CATEGORIES:Back Pain,Chronic Pain,Depression,Flex beam,InterX,Mental Health
ATTACH;FMTTYPE=image/jpeg:https://treeoflifecentre.co.uk/wp-content/uploads/2020/11/flexbeam-pelvic-floor-pain-zulia-zoom.jpg
END:VEVENT
BEGIN:VEVENT
DTSTART;TZID=UTC:20201212T100000
DTEND;TZID=UTC:20201212T110000
DTSTAMP:20260424T094653
CREATED:20201109T075316Z
LAST-MODIFIED:20201109T082957Z
UID:5048-1607767200-1607770800@treeoflifecentre.co.uk
SUMMARY:InterX & FlexBEAM - Management of Skin Conditions
DESCRIPTION:Acne/Eczema/Psoriasis & Would healing management with InterX & FlexBEAM\nSubjects covered: \n\nOverview of various skin conditions.\nTCM syndrome differentiation for skin manifestation.\nCauses and clinical commonality.\nRole of sympathetic overdrive.\nHow Interactive Neurostimulation can help.\nRLT for skin conditions.\nSupportive research.\nCombination with Photobiomodulation for the best results.\nWounds\, physiology of wound healing\, how the interX and FlexBEAM could be instrumental in wound healing.\nCase studies\, Treatment approaches\, Treatment protocols and Outcomes.\n\n1 hour webinar £20 \nTo enroll please click here:  https://www.healthhubuk.com/enrolment-form
URL:https://treeoflifecentre.co.uk/event/management-of-skin-conditions-with-interx-flexbeam/
LOCATION:Zoom Webinar
CATEGORIES:Confidence,Depression,Flex beam,InterX,Mental Health
ATTACH;FMTTYPE=image/jpeg:https://treeoflifecentre.co.uk/wp-content/uploads/2020/11/flexbeam-skin-conditions-zulia-zoom.jpg
END:VEVENT
BEGIN:VEVENT
DTSTART;TZID=UTC:20201202T090000
DTEND;TZID=UTC:20201202T100000
DTSTAMP:20260424T094653
CREATED:20201109T073140Z
LAST-MODIFIED:20201109T083030Z
UID:5042-1606899600-1606903200@treeoflifecentre.co.uk
SUMMARY:InterX & FlexBEAM - Management of CRPS/Fibromyalgia
DESCRIPTION:Subjects covered: \n\nMechanisms of development of\nCRPS and fibromyalgia.\nRole of sympathetic overdrive.\nHow Interactive Neurostimulation can help in pain management and desensitisation.\nCombination with Photobiomodulation for the best results.\nCase studies\, Treatment approaches\, Treatment protocols and Outcomes.\n\n1 hour webinar £20 \n  \nTo enroll please click here:  https://www.healthhubuk.com/enrolment-form
URL:https://treeoflifecentre.co.uk/event/management-of-crps-fibromyalgia/
LOCATION:Zoom Webinar
CATEGORIES:Back Pain,Chronic Pain,Depression,Flex beam,InterX,Mental Health
ATTACH;FMTTYPE=image/jpeg:https://treeoflifecentre.co.uk/wp-content/uploads/2020/11/Flexbeam-CPRS-myalgia-workshop-zoom_opt.jpg
END:VEVENT
BEGIN:VEVENT
DTSTART;TZID=UTC:20201119T100000
DTEND;TZID=UTC:20201119T110000
DTSTAMP:20260424T094653
CREATED:20200519T130915Z
LAST-MODIFIED:20201109T072628Z
UID:3110-1605780000-1605783600@treeoflifecentre.co.uk
SUMMARY:FlexBEAM on Neck\, Shoulder and Wrist
DESCRIPTION:“Management of acute and chronic Neck pain\, Shoulder pain\, Wrist pain and Interactive Neuromodulation /Photobiomodulation”\nSubjects covered:\n\n\nUnderstanding pathological changes and differences between acute and chronic neck pain.\n\n\nStructural issues leading to chronic pain in the neck\, shoulder\, arms and hands.\n\n\nCentrally mediated pain.\n\n\nUse of the InterX device with most common conditions\, cervicalgia\, ‘frozen shoulder’ radiculopathy\, disc disease\, fibromyalgia\, osteoarthritis\, etc.\n\n\nStandard treatment approach\, treatment planning.\n\n\nExpected outcomes.\n\n\nTo enroll\, please click here: https://www.healthhubuk.com/enrolment-form\n 
URL:https://treeoflifecentre.co.uk/event/flexbeam-on-neck-shoulder-and-wrist/
LOCATION:Zoom Webinar
CATEGORIES:Chronic Pain,Flex beam,Headaches & Migraines,Physical Injury
ATTACH;FMTTYPE=image/jpeg:https://treeoflifecentre.co.uk/wp-content/uploads/2020/11/flexbeam-shoulder.jpg
END:VEVENT
BEGIN:VEVENT
DTSTART;TZID=UTC:20201111T090000
DTEND;TZID=UTC:20201111T100000
DTSTAMP:20260424T094653
CREATED:20201109T070105Z
LAST-MODIFIED:20201109T083216Z
UID:5032-1605085200-1605088800@treeoflifecentre.co.uk
SUMMARY:Management of Post Stroke Patients
DESCRIPTION:Management of Post Stroke Patients with InterX and FlexBEAM\n  \nSubjects covered:\n\n\nUnderstanding stroke and post-stroke patient’s pathological state\n\n\nStructural changes leading to main outcomes and how to manage them with the InterX and FlexBEAM\n\n\nCentrally mediated pain\n\n\nStandard treatment approach\, treatment planning and expected outcomes\n\n\n1 hour webinar £20\n  \nTo enroll please click here:  https://www.healthhubuk.com/enrolment-form
URL:https://treeoflifecentre.co.uk/event/management-of-post-stroke-patients-with-interx-and-flexbeam/
LOCATION:Zoom Webinar
CATEGORIES:Chronic Pain,Flex beam,InterX
ATTACH;FMTTYPE=image/jpeg:https://treeoflifecentre.co.uk/wp-content/uploads/2020/11/flexbeam-stroke-workshop-zoom.jpg
END:VEVENT
END:VCALENDAR