BEGIN:VCALENDAR
VERSION:2.0
PRODID:-//Tree of Life Centre - ECPv6.15.20//NONSGML v1.0//EN
CALSCALE:GREGORIAN
METHOD:PUBLISH
X-WR-CALNAME:Tree of Life Centre
X-ORIGINAL-URL:https://treeoflifecentre.co.uk
X-WR-CALDESC:Events for Tree of Life Centre
REFRESH-INTERVAL;VALUE=DURATION:PT1H
X-Robots-Tag:noindex
X-PUBLISHED-TTL:PT1H
BEGIN:VTIMEZONE
TZID:UTC
BEGIN:STANDARD
TZOFFSETFROM:+0000
TZOFFSETTO:+0000
TZNAME:UTC
DTSTART:20230101T000000
END:STANDARD
END:VTIMEZONE
BEGIN:VEVENT
DTSTART;TZID=UTC:20240101T100000
DTEND;TZID=UTC:20240102T170000
DTSTAMP:20260425T163513
CREATED:20230309T145550Z
LAST-MODIFIED:20240106T111023Z
UID:9097-1704103200-1704214800@treeoflifecentre.co.uk
SUMMARY:Exploring the Energy Fields of the Body Date Option 2
DESCRIPTION:Pendulums and the mystery behind them. Using pendulums for allergy testing – discover what or who you are allergic to: emotionally and physically. Using pendulums for self-questioning. Learn how to “ask” your pendulum.\n\n\nWorking with the seven chakra system. Learn how these chakras spin\, whether they are correctly balanced\, and how to re-balance and cleanse blockages which lead to illness and lack of intuition.\n\n\nMeridian lines and energy fields\, derived from Chinese acupuncture; understanding the structure and interaction of meridian lines shows us where we hold physical blocks within our bodies.\n\n\nMany people say\, “I can’t see!”. Every person can see! Discover how you see.\n\n\nIntuition and confidence exercises. Techniques to enhance visualisation.\n\n\nClairaudience\, Clairvoyance\, and Clairsentience. Discover how to develop these skills and enhance your strongest gift.\n\n\nBasic Psychometry. Develops your ability to link to another person’s energy through an object they have worn.\n\n\nIn our search to understand the connection of our physical and spiritual selves we often ask for “proof” that energies do exist. In day one of this course\, Patricia Sterry explores pendulum techniques that enable us to experience visual confirmation of the physical and spiritual energies that flow through our bodies.\nDay two finds you bringing this understanding to the development of “inner sight”; imagery within the third eye. Exercises and visualisation techniques are combined to strengthen our perceptive intuition and psychic abilities.\nReserve your slot now!  All weekend workshops run from 10am to 5pm on both Saturday and Sunday.\nShould you have any questions about these workshops prior to booking\,  feel free to contact us on courses@treeoflifecentre.co.uk or call us on 01242 680 450 \nWe look forward to seeing you there!
URL:https://treeoflifecentre.co.uk/event/exploring-the-energy-fields-of-the-body-date-option-2/
LOCATION:Tree of Life Centre
CATEGORIES:Abuse,Addiction,Anger,Anxiety & Panic,BCT,Bullying,Cancer,chakras,Communication,Confidence,Couples Counselling,Depression,Failure,Family Issues,Food/Nutrition,Headaches & Migraines,Hormones,Immune System,Live,Meditation,Personal Development,Phobias,Self Worth,Spiritual Development,Stress,Trust
ATTACH;FMTTYPE=image/jpeg:https://treeoflifecentre.co.uk/wp-content/uploads/2020/05/fountain-3412242_640.jpg
END:VEVENT
END:VCALENDAR